BEGIN:VCALENDAR
VERSION:2.0
PRODID:-//LEGEND - ECPv6.15.20//NONSGML v1.0//EN
CALSCALE:GREGORIAN
METHOD:PUBLISH
X-ORIGINAL-URL:https://legendaustralia.com
X-WR-CALDESC:Events for LEGEND
REFRESH-INTERVAL;VALUE=DURATION:PT1H
X-Robots-Tag:noindex
X-PUBLISHED-TTL:PT1H
BEGIN:VTIMEZONE
TZID:America/New_York
BEGIN:DAYLIGHT
TZOFFSETFROM:-0500
TZOFFSETTO:-0400
TZNAME:EDT
DTSTART:20250309T070000
END:DAYLIGHT
BEGIN:STANDARD
TZOFFSETFROM:-0400
TZOFFSETTO:-0500
TZNAME:EST
DTSTART:20251102T060000
END:STANDARD
BEGIN:DAYLIGHT
TZOFFSETFROM:-0500
TZOFFSETTO:-0400
TZNAME:EDT
DTSTART:20260308T070000
END:DAYLIGHT
BEGIN:STANDARD
TZOFFSETFROM:-0400
TZOFFSETTO:-0500
TZNAME:EST
DTSTART:20261101T060000
END:STANDARD
BEGIN:DAYLIGHT
TZOFFSETFROM:-0500
TZOFFSETTO:-0400
TZNAME:EDT
DTSTART:20270314T070000
END:DAYLIGHT
BEGIN:STANDARD
TZOFFSETFROM:-0400
TZOFFSETTO:-0500
TZNAME:EST
DTSTART:20271107T060000
END:STANDARD
END:VTIMEZONE
BEGIN:VEVENT
DTSTART;VALUE=DATE:20260416
DTEND;VALUE=DATE:20260419
DTSTAMP:20260424T104659
CREATED:20260404T200122Z
LAST-MODIFIED:20260404T200122Z
UID:10000128-1776297600-1776556799@legendaustralia.com
SUMMARY:Beaufort Food & Wine Festival (Beaufort\, NC)
DESCRIPTION:Legend will be participating in and hosting events throughout the weekend at Beaufort F&W! \nBeaufort Wine and Food Weekend\, Inc. is a 501 c3 non profit. The first festival started as a weekend event in 2005 and was held in the streets of downtown Beaufort. Since its inception\, Beaufort Wine and Food has donated over $1\,00\,000 for local non-profits while hosting hundreds of spectacular food and wine events. 
URL:https://legendaustralia.com/event/beaufort-food-wine-festival-beaufort-nc/
ATTACH;FMTTYPE=image/jpeg:https://legendaustralia.com/wp-content/uploads/2026/04/Beaufort.jpeg
ORGANIZER;CN="Beaufort Food & Wine Festival":MAILTO:beaufortwineandfood@gmail.com
END:VEVENT
END:VCALENDAR