BEGIN:VCALENDAR
VERSION:2.0
PRODID:-//LEGEND - ECPv6.15.20//NONSGML v1.0//EN
CALSCALE:GREGORIAN
METHOD:PUBLISH
X-WR-CALNAME:LEGEND
X-ORIGINAL-URL:https://legendaustralia.com
X-WR-CALDESC:Events for LEGEND
REFRESH-INTERVAL;VALUE=DURATION:PT1H
X-Robots-Tag:noindex
X-PUBLISHED-TTL:PT1H
BEGIN:VTIMEZONE
TZID:America/New_York
BEGIN:DAYLIGHT
TZOFFSETFROM:-0500
TZOFFSETTO:-0400
TZNAME:EDT
DTSTART:20230312T070000
END:DAYLIGHT
BEGIN:STANDARD
TZOFFSETFROM:-0400
TZOFFSETTO:-0500
TZNAME:EST
DTSTART:20231105T060000
END:STANDARD
BEGIN:DAYLIGHT
TZOFFSETFROM:-0500
TZOFFSETTO:-0400
TZNAME:EDT
DTSTART:20240310T070000
END:DAYLIGHT
BEGIN:STANDARD
TZOFFSETFROM:-0400
TZOFFSETTO:-0500
TZNAME:EST
DTSTART:20241103T060000
END:STANDARD
BEGIN:DAYLIGHT
TZOFFSETFROM:-0500
TZOFFSETTO:-0400
TZNAME:EDT
DTSTART:20250309T070000
END:DAYLIGHT
BEGIN:STANDARD
TZOFFSETFROM:-0400
TZOFFSETTO:-0500
TZNAME:EST
DTSTART:20251102T060000
END:STANDARD
END:VTIMEZONE
BEGIN:VEVENT
DTSTART;TZID=America/New_York:20241010T173000
DTEND;TZID=America/New_York:20241010T193000
DTSTAMP:20260424T104844
CREATED:20241006T000716Z
LAST-MODIFIED:20241006T000716Z
UID:10000088-1728581400-1728588600@legendaustralia.com
SUMMARY:Winemaker Tasting with Sierra Reed @ 3 Parks (Atlanta\, GA)
DESCRIPTION:Come meet Sierra with our friends at 3 Parks in Atlanta. \nA few nice words on the event from the team at 3 Parks: “Master Sommelier and owner of Legend Australian Wine Imports\, Jonathan Ross\, will be accompanying Sierra Reed\, THE coolest\, most talented\, exceptionally chic winemaker and owner of Reed Wines to Atlanta for the first time! We have been in love with her wines since we tried them in 2020 and we’re so thrilled to have her visit 3 Parks Wine Shop!” \nWe will be tasting: \n2020 Reed ‘White Heart’ Riesling\, Geelong\, Australia \n2022 Reed ‘Alexia’ Grenache\, Barossa Valley\, Australia \n2021 Reed ‘Knife Edge’ Shiraz\, Grampians\, Great Western\, Australia
URL:https://legendaustralia.com/event/winemaker-tasting-with-sierra-reed-3-parks-atlanta-ga/
LOCATION:3 Parks\, 405 N Angier Ave NE Suite 200\, Atlanta\, GA\, 30308\, United States
ATTACH;FMTTYPE=image/webp:https://legendaustralia.com/wp-content/uploads/2024/10/Sierra_Reed_Tasting_1_18c4e761-35db-40a4-ae06-237d12a40fa4_720x.webp
END:VEVENT
END:VCALENDAR