BEGIN:VCALENDAR
VERSION:2.0
PRODID:-//LEGEND - ECPv6.15.20//NONSGML v1.0//EN
CALSCALE:GREGORIAN
METHOD:PUBLISH
X-ORIGINAL-URL:https://legendaustralia.com
X-WR-CALDESC:Events for LEGEND
REFRESH-INTERVAL;VALUE=DURATION:PT1H
X-Robots-Tag:noindex
X-PUBLISHED-TTL:PT1H
BEGIN:VTIMEZONE
TZID:America/New_York
BEGIN:DAYLIGHT
TZOFFSETFROM:-0500
TZOFFSETTO:-0400
TZNAME:EDT
DTSTART:20240310T070000
END:DAYLIGHT
BEGIN:STANDARD
TZOFFSETFROM:-0400
TZOFFSETTO:-0500
TZNAME:EST
DTSTART:20241103T060000
END:STANDARD
BEGIN:DAYLIGHT
TZOFFSETFROM:-0500
TZOFFSETTO:-0400
TZNAME:EDT
DTSTART:20250309T070000
END:DAYLIGHT
BEGIN:STANDARD
TZOFFSETFROM:-0400
TZOFFSETTO:-0500
TZNAME:EST
DTSTART:20251102T060000
END:STANDARD
BEGIN:DAYLIGHT
TZOFFSETFROM:-0500
TZOFFSETTO:-0400
TZNAME:EDT
DTSTART:20260308T070000
END:DAYLIGHT
BEGIN:STANDARD
TZOFFSETFROM:-0400
TZOFFSETTO:-0500
TZNAME:EST
DTSTART:20261101T060000
END:STANDARD
END:VTIMEZONE
BEGIN:VEVENT
DTSTART;TZID=America/New_York:20250618T170000
DTEND;TZID=America/New_York:20250618T190000
DTSTAMP:20260424T104523
CREATED:20250614T180646Z
LAST-MODIFIED:20250614T180646Z
UID:10000104-1750266000-1750273200@legendaustralia.com
SUMMARY:BTG Takeover @ Atoboy (NYC)
DESCRIPTION:On Tuesday\, June 18\, we’re excited to join acclaimed New York city restaurant Atoboy for a BTG takeover.  Grab your seat\, raise a glass\, and don’t miss this one-night-only takeover!
URL:https://legendaustralia.com/event/btg-takeover-atoboy-nyc/
LOCATION:Atoboy\, 43 E 28th St\, New York City\, NY\, 10016\, United States
ATTACH;FMTTYPE=image/jpeg:https://legendaustralia.com/wp-content/uploads/2025/06/Atoboy.jpg
END:VEVENT
END:VCALENDAR