BEGIN:VCALENDAR
VERSION:2.0
PRODID:-//LEGEND - ECPv6.15.20//NONSGML v1.0//EN
CALSCALE:GREGORIAN
METHOD:PUBLISH
X-WR-CALNAME:LEGEND
X-ORIGINAL-URL:https://legendaustralia.com
X-WR-CALDESC:Events for LEGEND
REFRESH-INTERVAL;VALUE=DURATION:PT1H
X-Robots-Tag:noindex
X-PUBLISHED-TTL:PT1H
BEGIN:VTIMEZONE
TZID:America/Chicago
BEGIN:DAYLIGHT
TZOFFSETFROM:-0600
TZOFFSETTO:-0500
TZNAME:CDT
DTSTART:20230312T080000
END:DAYLIGHT
BEGIN:STANDARD
TZOFFSETFROM:-0500
TZOFFSETTO:-0600
TZNAME:CST
DTSTART:20231105T070000
END:STANDARD
BEGIN:DAYLIGHT
TZOFFSETFROM:-0600
TZOFFSETTO:-0500
TZNAME:CDT
DTSTART:20240310T080000
END:DAYLIGHT
BEGIN:STANDARD
TZOFFSETFROM:-0500
TZOFFSETTO:-0600
TZNAME:CST
DTSTART:20241103T070000
END:STANDARD
BEGIN:DAYLIGHT
TZOFFSETFROM:-0600
TZOFFSETTO:-0500
TZNAME:CDT
DTSTART:20250309T080000
END:DAYLIGHT
BEGIN:STANDARD
TZOFFSETFROM:-0500
TZOFFSETTO:-0600
TZNAME:CST
DTSTART:20251102T070000
END:STANDARD
BEGIN:DAYLIGHT
TZOFFSETFROM:-0600
TZOFFSETTO:-0500
TZNAME:CDT
DTSTART:20260308T080000
END:DAYLIGHT
BEGIN:STANDARD
TZOFFSETFROM:-0500
TZOFFSETTO:-0600
TZNAME:CST
DTSTART:20261101T070000
END:STANDARD
END:VTIMEZONE
BEGIN:VEVENT
DTSTART;TZID=America/Chicago:20250922T180000
DTEND;TZID=America/Chicago:20250922T210000
DTSTAMP:20260424T104659
CREATED:20250918T192013Z
LAST-MODIFIED:20250918T192013Z
UID:10000119-1758564000-1758574800@legendaustralia.com
SUMMARY:Legend Winemaker Takeover @ Bad Idea (Nashville\, TN)
DESCRIPTION:Our friends at Bad Idea are hosting not one\, not two\, but THREE incredible Australian winemakers for this wine list takeover. Pair Ngeringa\, Patrick Sullivan\, and Bill Downie with Bad Idea’s award-winning Laotian food. We’ll be hanging from 6pm on! Book a table or come grab a seat at the bar.
URL:https://legendaustralia.com/event/legend-winemaker-takeover-bad-idea-nashville-tn/
LOCATION:Bad Idea\, 1021 Russell St\, Nashville\, TN\, 37206\, United States
ATTACH;FMTTYPE=image/png:https://legendaustralia.com/wp-content/uploads/2025/09/bad-idea-takeover.png
END:VEVENT
BEGIN:VEVENT
DTSTART;TZID=America/Chicago:20240623T170000
DTEND;TZID=America/Chicago:20240623T200000
DTSTAMP:20260424T104659
CREATED:20240608T023432Z
LAST-MODIFIED:20240608T023432Z
UID:10000064-1719162000-1719172800@legendaustralia.com
SUMMARY:Vino Volta Takeover @ Bad Idea (Nashville\, TN)
DESCRIPTION:Join Jane\, Jane and Vino Volta’s Garth Cliff at one of our favorite Nashville spots: East Nashville’s Bad Idea. Garth’s wines will be on pour\, with special BTGs available to pair with Bad Idea’s superb Laos cuisine. Come say hey!
URL:https://legendaustralia.com/event/vino-volta-takeover-bad-idea-nashville-tn/
LOCATION:Bad Idea\, 1021 Russell St\, Nashville\, TN\, 37206\, United States
ATTACH;FMTTYPE=image/png:https://legendaustralia.com/wp-content/uploads/2024/06/Copy-of-Garth-Cliff-@-Bad-Idea-2.png
END:VEVENT
END:VCALENDAR