BEGIN:VCALENDAR
VERSION:2.0
PRODID:-//LEGEND - ECPv6.15.20//NONSGML v1.0//EN
CALSCALE:GREGORIAN
METHOD:PUBLISH
X-ORIGINAL-URL:https://legendaustralia.com
X-WR-CALDESC:Events for LEGEND
REFRESH-INTERVAL;VALUE=DURATION:PT1H
X-Robots-Tag:noindex
X-PUBLISHED-TTL:PT1H
BEGIN:VTIMEZONE
TZID:America/New_York
BEGIN:DAYLIGHT
TZOFFSETFROM:-0500
TZOFFSETTO:-0400
TZNAME:EDT
DTSTART:20220313T070000
END:DAYLIGHT
BEGIN:STANDARD
TZOFFSETFROM:-0400
TZOFFSETTO:-0500
TZNAME:EST
DTSTART:20221106T060000
END:STANDARD
BEGIN:DAYLIGHT
TZOFFSETFROM:-0500
TZOFFSETTO:-0400
TZNAME:EDT
DTSTART:20230312T070000
END:DAYLIGHT
BEGIN:STANDARD
TZOFFSETFROM:-0400
TZOFFSETTO:-0500
TZNAME:EST
DTSTART:20231105T060000
END:STANDARD
BEGIN:DAYLIGHT
TZOFFSETFROM:-0500
TZOFFSETTO:-0400
TZNAME:EDT
DTSTART:20240310T070000
END:DAYLIGHT
BEGIN:STANDARD
TZOFFSETFROM:-0400
TZOFFSETTO:-0500
TZNAME:EST
DTSTART:20241103T060000
END:STANDARD
END:VTIMEZONE
BEGIN:VEVENT
DTSTART;TZID=America/New_York:20231101T183000
DTEND;TZID=America/New_York:20231101T200000
DTSTAMP:20260424T105056
CREATED:20231014T024831Z
LAST-MODIFIED:20231014T024831Z
UID:10000023-1698863400-1698868800@legendaustralia.com
SUMMARY:University of Chicago Alumni Event @ Bar Pasquale (NYC)
DESCRIPTION:For Univeristy of Chicago alumni only – sorry! Jane Lopes\, AB’07 is back with UChicago New York Alumni Club for Part II of our Sip & Study series. This time\, we will discuss her newest book\, How to Drink Australian: An Essential Modern Wine Book. She will be joined in conversation by Andrea Bischof\, AB’13. We will taste some wines during the presentation along with Q&A; books will be available for purchase and signing before and after the discussion.
URL:https://legendaustralia.com/event/university-of-chicago-alumni-event-bar-pasquale-nyc/
LOCATION:Bar Pasquale\, 98 Kenmare Street\, New York\, NY\, 10012\, United States
ATTACH;FMTTYPE=image/png:https://legendaustralia.com/wp-content/uploads/2023/10/Screenshot-2023-10-13-at-4.46.38-PM-e1697237292207.png
ORGANIZER;CN="University of Chicago%2C Alumni Club of New York":MAILTO:rsaha@uchicago.edu
END:VEVENT
END:VCALENDAR