BEGIN:VCALENDAR
VERSION:2.0
PRODID:-//LEGEND - ECPv6.15.20//NONSGML v1.0//EN
CALSCALE:GREGORIAN
METHOD:PUBLISH
X-ORIGINAL-URL:https://legendaustralia.com
X-WR-CALDESC:Events for LEGEND
REFRESH-INTERVAL;VALUE=DURATION:PT1H
X-Robots-Tag:noindex
X-PUBLISHED-TTL:PT1H
BEGIN:VTIMEZONE
TZID:America/Los_Angeles
BEGIN:DAYLIGHT
TZOFFSETFROM:-0800
TZOFFSETTO:-0700
TZNAME:PDT
DTSTART:20240310T100000
END:DAYLIGHT
BEGIN:STANDARD
TZOFFSETFROM:-0700
TZOFFSETTO:-0800
TZNAME:PST
DTSTART:20241103T090000
END:STANDARD
BEGIN:DAYLIGHT
TZOFFSETFROM:-0800
TZOFFSETTO:-0700
TZNAME:PDT
DTSTART:20250309T100000
END:DAYLIGHT
BEGIN:STANDARD
TZOFFSETFROM:-0700
TZOFFSETTO:-0800
TZNAME:PST
DTSTART:20251102T090000
END:STANDARD
BEGIN:DAYLIGHT
TZOFFSETFROM:-0800
TZOFFSETTO:-0700
TZNAME:PDT
DTSTART:20260308T100000
END:DAYLIGHT
BEGIN:STANDARD
TZOFFSETFROM:-0700
TZOFFSETTO:-0800
TZNAME:PST
DTSTART:20261101T090000
END:STANDARD
END:VTIMEZONE
BEGIN:VEVENT
DTSTART;TZID=America/Los_Angeles:20250609T153000
DTEND;TZID=America/Los_Angeles:20250609T190000
DTSTAMP:20260424T105027
CREATED:20250521T232827Z
LAST-MODIFIED:20250521T232827Z
UID:10000097-1749483000-1749495600@legendaustralia.com
SUMMARY:Inaugural Small Poppies Tasting @ Bay Grape (Oakland\, CA)
DESCRIPTION:We hope you’ll join us for the inaugural Small Poppies trade tasting! Small Poppies is a group of four importers who work with wines from lesser-known (and less appreciated) wine regions: \n​💥 Culture Wine Co (South Africa) \n​💥 Danch & Granger Selections (Central & Eastern Europe) \n​💥 Legend Imports (Australia) \n​💥 Tupetz Wine Connection (Germany) \n​At our inaugural tasting\, we’ll be welcoming trade from 3:30-5pm. At 5pm\, we’ll open the doors to the public\, though trade is welcome to hang out as well. Each importer is showing 5 wines\, a distilled and focused look at some of the most important styles and regions in our respective focus areas. \n​Walk-ins are welcome and RSVPs are appreciated. $50 for the public (please reach out to Bay Grape!) and free for the trade before 5pm (please RSVP with link). \n​Prost! Gesondheid! Na Zdravje! Cheers\, mate! \n 
URL:https://legendaustralia.com/event/inaugural-small-poppies-tasting-bay-grape-oakland-ca/
LOCATION:Bay Grape\, 376 Grand Ave\, Oakland\, CA\, 94610\, United States
ATTACH;FMTTYPE=image/png:https://legendaustralia.com/wp-content/uploads/2025/05/Small-Poppies-Flyer2-e1747855621611.png
END:VEVENT
END:VCALENDAR