BEGIN:VCALENDAR
VERSION:2.0
PRODID:-//LEGEND - ECPv6.15.20//NONSGML v1.0//EN
CALSCALE:GREGORIAN
METHOD:PUBLISH
X-ORIGINAL-URL:https://legendaustralia.com
X-WR-CALDESC:Events for LEGEND
REFRESH-INTERVAL;VALUE=DURATION:PT1H
X-Robots-Tag:noindex
X-PUBLISHED-TTL:PT1H
BEGIN:VTIMEZONE
TZID:America/New_York
BEGIN:DAYLIGHT
TZOFFSETFROM:-0500
TZOFFSETTO:-0400
TZNAME:EDT
DTSTART:20230312T070000
END:DAYLIGHT
BEGIN:STANDARD
TZOFFSETFROM:-0400
TZOFFSETTO:-0500
TZNAME:EST
DTSTART:20231105T060000
END:STANDARD
BEGIN:DAYLIGHT
TZOFFSETFROM:-0500
TZOFFSETTO:-0400
TZNAME:EDT
DTSTART:20240310T070000
END:DAYLIGHT
BEGIN:STANDARD
TZOFFSETFROM:-0400
TZOFFSETTO:-0500
TZNAME:EST
DTSTART:20241103T060000
END:STANDARD
BEGIN:DAYLIGHT
TZOFFSETFROM:-0500
TZOFFSETTO:-0400
TZNAME:EDT
DTSTART:20250309T070000
END:DAYLIGHT
BEGIN:STANDARD
TZOFFSETFROM:-0400
TZOFFSETTO:-0500
TZNAME:EST
DTSTART:20251102T060000
END:STANDARD
END:VTIMEZONE
BEGIN:VEVENT
DTSTART;TZID=America/New_York:20240511T173000
DTEND;TZID=America/New_York:20240511T193000
DTSTAMP:20260424T104958
CREATED:20240402T072050Z
LAST-MODIFIED:20240505T220859Z
UID:10000048-1715448600-1715455800@legendaustralia.com
SUMMARY:How to Drink Australian with Jonathan Ross @ Bibliotheque (NYC)
DESCRIPTION:We are honored to be Bibliotheque’s first wine event! Here’s what they have to say: \n“For Bibliotheque’s first wine event\, we are extremely lucky to have author\, importer\, winemaker\, and master sommelier Jonathan Ross lead us through a tasting and discussion of one of the most neglected yet diverse wine countries in the world. Along with his partner\, Jane Lopes\, Jonathan has recently published “How To Drink Australian”\, a lively\, in-depth\, and sometimes surprising exploration of the why\, the how\, and the where of the most exciting wine-producing country in the world today. You will have the opportunity to taste through six Australian wines\, and our full food menu will be available for ordering. Additionally\, we will have signed copies of “How To Drink Australian” available for purchase at a discounted rate.”
URL:https://legendaustralia.com/event/how-to-drink-australian-with-jonathan-ross-bibliotheque-nyc/
LOCATION:Bibliotheque\, 54 Mercer St\, New York\, NY\, 10013\, United States
ATTACH;FMTTYPE=image/webp:https://legendaustralia.com/wp-content/uploads/2024/04/bibliotheque-e1712028018121.webp
END:VEVENT
END:VCALENDAR