BEGIN:VCALENDAR
VERSION:2.0
PRODID:-//LEGEND - ECPv6.15.20//NONSGML v1.0//EN
CALSCALE:GREGORIAN
METHOD:PUBLISH
X-ORIGINAL-URL:https://legendaustralia.com
X-WR-CALDESC:Events for LEGEND
REFRESH-INTERVAL;VALUE=DURATION:PT1H
X-Robots-Tag:noindex
X-PUBLISHED-TTL:PT1H
BEGIN:VTIMEZONE
TZID:America/Phoenix
BEGIN:STANDARD
TZOFFSETFROM:-0700
TZOFFSETTO:-0700
TZNAME:MST
DTSTART:20230101T000000
END:STANDARD
END:VTIMEZONE
BEGIN:VEVENT
DTSTART;TZID=America/Phoenix:20240919T180000
DTEND;TZID=America/Phoenix:20240919T203000
DTSTAMP:20260424T104959
CREATED:20240823T031927Z
LAST-MODIFIED:20240823T031927Z
UID:10000072-1726768800-1726777800@legendaustralia.com
SUMMARY:Chalmers Wine Dinner @ Board & Batten (Mesa\, AZ)
DESCRIPTION:We are thrilled to join Board & Batten for their next wine pairing dinner\, with special guests Tennille Chalmers and Legend’s own Jonathan Ross! Check out this epic menu below…and please call the restaurant at 480-641-4148 to make a reservation. \nFirst Course\nSALUMI & BARELY BUZZED CHEDDAR\nCITRUS FENNEL MOSTARDA\, SPICED ALMONDS\, NOBLE LAVOSH PAIRED WITH: COL FONDO ’22 \nSecond Course\nCALABRIAN CHILE CRISPY OCTOPUS\nROMANO BEANS\, MELTING TOMATOES\, BREADCRUMBS \nPAIRED WITH: VERMENTINO ’21 \nThird Course\nBUTTER POACHED YELLOWTAIL SNAPPER & CAVIAR\nPEARS\, LOCAL GREENS\, SCALLION GREMOLATA \nPAIRED WITH: MONTEVECCHIO BIANCO ’21 \nFourth Course\nBRAISED DUCK ORECCHIETTE\nCASTELVETRANO OLIVES\, DUCK JUS\, RICOTTA & DUCK PROSCIUTTO CROSTINI \nPAIRED WITH: MONTEVECCHIO ROSSO ’21 \nFifth Course\nGRILLED LOCAL NY STRIP LOIN\nROASTED CIPOLLINI ONIONS\, RASPBERRY AGRODOLCE\, CROCCHETTE DI PATATE \nPAIRED WITH: NERO D’AVOLA ’21
URL:https://legendaustralia.com/event/chalmers-wine-dinner-board-batten-mesa-az/
LOCATION:Board & Batten\, 4012 E. Palm St.\, Mesa\, AZ\, 85215\, United States
ATTACH;FMTTYPE=image/jpeg:https://legendaustralia.com/wp-content/uploads/2024/08/Image-8-22-24-at-4.47 PM-e1724368747302.jpg
END:VEVENT
END:VCALENDAR