BEGIN:VCALENDAR
VERSION:2.0
PRODID:-//LEGEND - ECPv6.15.20//NONSGML v1.0//EN
CALSCALE:GREGORIAN
METHOD:PUBLISH
X-WR-CALNAME:LEGEND
X-ORIGINAL-URL:https://legendaustralia.com
X-WR-CALDESC:Events for LEGEND
REFRESH-INTERVAL;VALUE=DURATION:PT1H
X-Robots-Tag:noindex
X-PUBLISHED-TTL:PT1H
BEGIN:VTIMEZONE
TZID:America/Los_Angeles
BEGIN:DAYLIGHT
TZOFFSETFROM:-0800
TZOFFSETTO:-0700
TZNAME:PDT
DTSTART:20220313T100000
END:DAYLIGHT
BEGIN:STANDARD
TZOFFSETFROM:-0700
TZOFFSETTO:-0800
TZNAME:PST
DTSTART:20221106T090000
END:STANDARD
BEGIN:DAYLIGHT
TZOFFSETFROM:-0800
TZOFFSETTO:-0700
TZNAME:PDT
DTSTART:20230312T100000
END:DAYLIGHT
BEGIN:STANDARD
TZOFFSETFROM:-0700
TZOFFSETTO:-0800
TZNAME:PST
DTSTART:20231105T090000
END:STANDARD
BEGIN:DAYLIGHT
TZOFFSETFROM:-0800
TZOFFSETTO:-0700
TZNAME:PDT
DTSTART:20240310T100000
END:DAYLIGHT
BEGIN:STANDARD
TZOFFSETFROM:-0700
TZOFFSETTO:-0800
TZNAME:PST
DTSTART:20241103T090000
END:STANDARD
END:VTIMEZONE
BEGIN:VEVENT
DTSTART;TZID=America/Los_Angeles:20231202T143000
DTEND;TZID=America/Los_Angeles:20231202T160000
DTSTAMP:20260424T105412
CREATED:20231128T220927Z
LAST-MODIFIED:20231128T220927Z
UID:10000028-1701527400-1701532800@legendaustralia.com
SUMMARY:Sierra Reed @ Cosette Wine Bar & Bottleshop (Los Angeles\, CA)
DESCRIPTION:Come meet the winemaker! This will be the FIRST winemaker tasting at the newly opened Cosette\, and the featured guest is Sierra Reed of Reed Wines (Geelong\, VIC). Guests will enjoy three different wines of Sierra’s (Alexia Grenache 2021\, R&R Pinot Gris 2021\, and Knife Edge Shiraz 2021) paired with cheese & charcuterie from Cosette.
URL:https://legendaustralia.com/event/sierra-reed-cosette-wine-bar-bottleshop-los-angeles-ca/
LOCATION:Cosette\, 12833 Ventura Blvd\, Suite 145\, Studio City\, CA\, 91604\, United States
ATTACH;FMTTYPE=image/jpeg:https://legendaustralia.com/wp-content/uploads/2023/11/Sierra-2023-1-7940-final-scaled-e1701191348233.jpg
END:VEVENT
END:VCALENDAR