BEGIN:VCALENDAR
VERSION:2.0
PRODID:-//LEGEND - ECPv6.15.20//NONSGML v1.0//EN
CALSCALE:GREGORIAN
METHOD:PUBLISH
X-ORIGINAL-URL:https://legendaustralia.com
X-WR-CALDESC:Events for LEGEND
REFRESH-INTERVAL;VALUE=DURATION:PT1H
X-Robots-Tag:noindex
X-PUBLISHED-TTL:PT1H
BEGIN:VTIMEZONE
TZID:America/New_York
BEGIN:DAYLIGHT
TZOFFSETFROM:-0500
TZOFFSETTO:-0400
TZNAME:EDT
DTSTART:20230312T070000
END:DAYLIGHT
BEGIN:STANDARD
TZOFFSETFROM:-0400
TZOFFSETTO:-0500
TZNAME:EST
DTSTART:20231105T060000
END:STANDARD
BEGIN:DAYLIGHT
TZOFFSETFROM:-0500
TZOFFSETTO:-0400
TZNAME:EDT
DTSTART:20240310T070000
END:DAYLIGHT
BEGIN:STANDARD
TZOFFSETFROM:-0400
TZOFFSETTO:-0500
TZNAME:EST
DTSTART:20241103T060000
END:STANDARD
BEGIN:DAYLIGHT
TZOFFSETFROM:-0500
TZOFFSETTO:-0400
TZNAME:EDT
DTSTART:20250309T070000
END:DAYLIGHT
BEGIN:STANDARD
TZOFFSETFROM:-0400
TZOFFSETTO:-0500
TZNAME:EST
DTSTART:20251102T060000
END:STANDARD
END:VTIMEZONE
BEGIN:VEVENT
DTSTART;TZID=America/New_York:20240604T180000
DTEND;TZID=America/New_York:20240604T190000
DTSTAMP:20260424T105950
CREATED:20240601T010853Z
LAST-MODIFIED:20240601T010853Z
UID:10000062-1717524000-1717527600@legendaustralia.com
SUMMARY:Australian Wine Tasting @ Dahlia's Restaurant & Porch (Atlanta\, GA)
DESCRIPTION:Join Jane at Peachtree Corners’ Dahlia’s for a tasting of (as always) some great Australian wine. Stay afterwards for dinner to try the wines paired with Dahlia’s delicious food. We’ll be trying Chalmers Montevecchio Bianco\, Mt Yengo Pinot Gris\, and Sunspell Cabernet Sauvignon. To RSVP for the tasting\, email brandy.jackson@hilton.com.
URL:https://legendaustralia.com/event/australian-wine-tasting-dahlias-restaurant-porch-atlanta-ga/
LOCATION:Dahlia’s Restaurant & Porch\, 5993 Peachtree Industrial Blvd\, Peachtree Corners\, GA\, 30092\, United States
ATTACH;FMTTYPE=image/jpeg:https://legendaustralia.com/wp-content/uploads/2024/05/Dahlias-e1717189667479.jpeg
END:VEVENT
END:VCALENDAR