BEGIN:VCALENDAR
VERSION:2.0
PRODID:-//LEGEND - ECPv6.15.20//NONSGML v1.0//EN
CALSCALE:GREGORIAN
METHOD:PUBLISH
X-WR-CALNAME:LEGEND
X-ORIGINAL-URL:https://legendaustralia.com
X-WR-CALDESC:Events for LEGEND
REFRESH-INTERVAL;VALUE=DURATION:PT1H
X-Robots-Tag:noindex
X-PUBLISHED-TTL:PT1H
BEGIN:VTIMEZONE
TZID:America/Chicago
BEGIN:DAYLIGHT
TZOFFSETFROM:-0600
TZOFFSETTO:-0500
TZNAME:CDT
DTSTART:20230312T080000
END:DAYLIGHT
BEGIN:STANDARD
TZOFFSETFROM:-0500
TZOFFSETTO:-0600
TZNAME:CST
DTSTART:20231105T070000
END:STANDARD
BEGIN:DAYLIGHT
TZOFFSETFROM:-0600
TZOFFSETTO:-0500
TZNAME:CDT
DTSTART:20240310T080000
END:DAYLIGHT
BEGIN:STANDARD
TZOFFSETFROM:-0500
TZOFFSETTO:-0600
TZNAME:CST
DTSTART:20241103T070000
END:STANDARD
BEGIN:DAYLIGHT
TZOFFSETFROM:-0600
TZOFFSETTO:-0500
TZNAME:CDT
DTSTART:20250309T080000
END:DAYLIGHT
BEGIN:STANDARD
TZOFFSETFROM:-0500
TZOFFSETTO:-0600
TZNAME:CST
DTSTART:20251102T070000
END:STANDARD
END:VTIMEZONE
BEGIN:VEVENT
DTSTART;TZID=America/Chicago:20240202T180000
DTEND;TZID=America/Chicago:20240202T200000
DTSTAMP:20260424T104701
CREATED:20240124T052350Z
LAST-MODIFIED:20240124T052350Z
UID:10000041-1706896800-1706904000@legendaustralia.com
SUMMARY:Legend Wine Tasting @ Esther's Eatery (Florence\, AL)
DESCRIPTION:Jon Ross will be in the house\, pouring some Australian wine\, sharing some insight\, and maybe even signing a few books! Tickets include 5 wines and snacks. Email celeste@estherseatery.com to reserve your spot!
URL:https://legendaustralia.com/event/legend-wine-tasting-esthers-eatery-florence-al/
LOCATION:Esther’s Eatery\, 1416 Huntsville Rd\, Florence\, AL\, 35630\, United States
ATTACH;FMTTYPE=image/png:https://legendaustralia.com/wp-content/uploads/2024/01/Screenshot-2024-01-23-at-6.23.01-PM-e1706055821785.png
END:VEVENT
END:VCALENDAR