BEGIN:VCALENDAR
VERSION:2.0
PRODID:-//LEGEND - ECPv6.15.20//NONSGML v1.0//EN
CALSCALE:GREGORIAN
METHOD:PUBLISH
X-ORIGINAL-URL:https://legendaustralia.com
X-WR-CALDESC:Events for LEGEND
REFRESH-INTERVAL;VALUE=DURATION:PT1H
X-Robots-Tag:noindex
X-PUBLISHED-TTL:PT1H
BEGIN:VTIMEZONE
TZID:America/Los_Angeles
BEGIN:DAYLIGHT
TZOFFSETFROM:-0800
TZOFFSETTO:-0700
TZNAME:PDT
DTSTART:20240310T100000
END:DAYLIGHT
BEGIN:STANDARD
TZOFFSETFROM:-0700
TZOFFSETTO:-0800
TZNAME:PST
DTSTART:20241103T090000
END:STANDARD
BEGIN:DAYLIGHT
TZOFFSETFROM:-0800
TZOFFSETTO:-0700
TZNAME:PDT
DTSTART:20250309T100000
END:DAYLIGHT
BEGIN:STANDARD
TZOFFSETFROM:-0700
TZOFFSETTO:-0800
TZNAME:PST
DTSTART:20251102T090000
END:STANDARD
BEGIN:DAYLIGHT
TZOFFSETFROM:-0800
TZOFFSETTO:-0700
TZNAME:PDT
DTSTART:20260308T100000
END:DAYLIGHT
BEGIN:STANDARD
TZOFFSETFROM:-0700
TZOFFSETTO:-0800
TZNAME:PST
DTSTART:20261101T090000
END:STANDARD
END:VTIMEZONE
BEGIN:VEVENT
DTSTART;TZID=America/Los_Angeles:20250531T160000
DTEND;TZID=America/Los_Angeles:20250531T210000
DTSTAMP:20260424T105248
CREATED:20250521T231015Z
LAST-MODIFIED:20250521T231015Z
UID:10000096-1748707200-1748725200@legendaustralia.com
SUMMARY:Great Australian Bite with Kim & Tennille Chalmers (Malibu\, CA)
DESCRIPTION:After a deliciously successful first installment in 2024\, The Los Angeles Times and Tourism Australia is proud to present the 2025 Great Australian Bite\, and the featured wine guests are…Kim & Tennille Chalmers! \nExperience a night of Australian bites\, sips and sounds — right in L.A. Join esteemed Australian chefs Curtis Stone and Clare Falzon on Saturday\, May 31 for an intimate dining experience at Stone’s private farm nestled in Malibu wine country. This chef-crafted menu will serve up the best of Down Under: fresh\, seasonal produce and expertly paired wines — served in the premium\, yet relaxed style that defines Aussie dining. \nThe multicourse menu\, inspired by the best of Australia’s local produce and culinary heritage\, will be paired with world-class wine and beer selections curated by Australian wine and drinks journalist Mike Bennie (P&V Merchants). Additionally\, winemakers Kim and Tennille Chalmers (Chalmers) will showcase wines produced from their family’s vineyards in Victoria: Heathcote and Merbein. Indigenous culinary entrepreneur Daniel Motlop (Seven Seasons) will serve his vodka made from native yams harvested from the Northern Territory.
URL:https://legendaustralia.com/event/great-australian-bite-with-kim-tennille-chalmers-malibu-ca/
LOCATION:Four Stones Farm\, 2714 Triunfo Canyon Rd\, Agoura Hills\, CA\, 91301\, United States
ATTACH;FMTTYPE=image/png:https://legendaustralia.com/wp-content/uploads/2025/05/Great-Australian-Bite-e1747854588821.png
ORGANIZER;CN="LA Times":MAILTO:eventinfo@latimes.com
END:VEVENT
END:VCALENDAR