BEGIN:VCALENDAR
VERSION:2.0
PRODID:-//LEGEND - ECPv6.15.20//NONSGML v1.0//EN
CALSCALE:GREGORIAN
METHOD:PUBLISH
X-ORIGINAL-URL:https://legendaustralia.com
X-WR-CALDESC:Events for LEGEND
REFRESH-INTERVAL;VALUE=DURATION:PT1H
X-Robots-Tag:noindex
X-PUBLISHED-TTL:PT1H
BEGIN:VTIMEZONE
TZID:UTC
BEGIN:STANDARD
TZOFFSETFROM:+0000
TZOFFSETTO:+0000
TZNAME:UTC
DTSTART:20220101T000000
END:STANDARD
END:VTIMEZONE
BEGIN:VEVENT
DTSTART;TZID=UTC:20231029T180000
DTEND;TZID=UTC:20231029T203000
DTSTAMP:20260424T105251
CREATED:20231012T055220Z
LAST-MODIFIED:20231012T055617Z
UID:10000021-1698602400-1698611400@legendaustralia.com
SUMMARY:How to Drink Australian – A Dinner with Legend Wines @ Gramercy Tavern (NYC)
DESCRIPTION:Join us for an evening exploring wines of Australia at the acclaimed New York institution\, Gramercy Tavern. Legend owners Jane Lopes and Jonathan Ross will join the Gramercy Tavern team in celebration of the launch of our new book\, “How to Drink Australian”. We’ll enjoy six different Australian wines\, accompanied by a five-course seasonal menu by Executive Chef Michael Anthony.
URL:https://legendaustralia.com/event/how-to-drink-australian-a-dinner-with-legend-wines-gramercy-tavern-nyc/
LOCATION:Gramercy Tavern\, 42 East 20th Street\, New York\, NY\, 10003\, United States
ATTACH;FMTTYPE=image/jpeg:https://legendaustralia.com/wp-content/uploads/2023/10/gramercy-tavern-e1697075770629.jpg
END:VEVENT
END:VCALENDAR