BEGIN:VCALENDAR
VERSION:2.0
PRODID:-//LEGEND - ECPv6.15.20//NONSGML v1.0//EN
CALSCALE:GREGORIAN
METHOD:PUBLISH
X-WR-CALNAME:LEGEND
X-ORIGINAL-URL:https://legendaustralia.com
X-WR-CALDESC:Events for LEGEND
REFRESH-INTERVAL;VALUE=DURATION:PT1H
X-Robots-Tag:noindex
X-PUBLISHED-TTL:PT1H
BEGIN:VTIMEZONE
TZID:America/Chicago
BEGIN:DAYLIGHT
TZOFFSETFROM:-0600
TZOFFSETTO:-0500
TZNAME:CDT
DTSTART:20230312T080000
END:DAYLIGHT
BEGIN:STANDARD
TZOFFSETFROM:-0500
TZOFFSETTO:-0600
TZNAME:CST
DTSTART:20231105T070000
END:STANDARD
BEGIN:DAYLIGHT
TZOFFSETFROM:-0600
TZOFFSETTO:-0500
TZNAME:CDT
DTSTART:20240310T080000
END:DAYLIGHT
BEGIN:STANDARD
TZOFFSETFROM:-0500
TZOFFSETTO:-0600
TZNAME:CST
DTSTART:20241103T070000
END:STANDARD
BEGIN:DAYLIGHT
TZOFFSETFROM:-0600
TZOFFSETTO:-0500
TZNAME:CDT
DTSTART:20250309T080000
END:DAYLIGHT
BEGIN:STANDARD
TZOFFSETFROM:-0500
TZOFFSETTO:-0600
TZNAME:CST
DTSTART:20251102T070000
END:STANDARD
END:VTIMEZONE
BEGIN:VEVENT
DTSTART;TZID=America/Chicago:20241004T180000
DTEND;TZID=America/Chicago:20241004T220000
DTSTAMP:20260424T104758
CREATED:20240517T191825Z
LAST-MODIFIED:20240517T191825Z
UID:10000056-1728064800-1728079200@legendaustralia.com
SUMMARY:First Friday Flicks @ Hearts (Nashville\, TN)
DESCRIPTION:This summer\, Legend will be partnering with Aussie cafe Hearts for an outdoor movie series. Every first Friday of the month we will be enjoying the sunset while watching some Aussie films and\, of course\, sipping some Aussie wine. Come enjoy the brand new outdoor patio at Hearts! Rotating food vendors\, special beverages\, and a guest DJ to kickstart the evening. Every month until October!
URL:https://legendaustralia.com/event/first-friday-flicks-hearts-nashville-tn-5/
LOCATION:Hearts\, 914 Gallatin Ave\, Nashville\, TN\, 37206\, United States
ATTACH;FMTTYPE=image/png:https://legendaustralia.com/wp-content/uploads/2024/05/Screenshot-2024-05-17-at-9.28.38-AM-e1715959050688.png
END:VEVENT
BEGIN:VEVENT
DTSTART;TZID=America/Chicago:20240906T180000
DTEND;TZID=America/Chicago:20240906T220000
DTSTAMP:20260424T104758
CREATED:20240517T184356Z
LAST-MODIFIED:20240517T184356Z
UID:10000055-1725645600-1725660000@legendaustralia.com
SUMMARY:First Friday Flicks @ Hearts (Nashville\, TN)
DESCRIPTION:This summer\, Legend will be partnering with Aussie cafe Hearts for an outdoor movie series. Every first Friday of the month we will be enjoying the sunset while watching some Aussie films and\, of course\, sipping some Aussie wine. Come enjoy the brand new outdoor patio at Hearts! Rotating food vendors\, special beverages\, and a guest DJ to kickstart the evening. Every month until October!
URL:https://legendaustralia.com/event/first-friday-flicks-hearts-nashville-tn-4/
LOCATION:Hearts\, 914 Gallatin Ave\, Nashville\, TN\, 37206\, United States
ATTACH;FMTTYPE=image/png:https://legendaustralia.com/wp-content/uploads/2024/05/Screenshot-2024-05-17-at-9.26.51-AM-e1715957025200.png
END:VEVENT
BEGIN:VEVENT
DTSTART;TZID=America/Chicago:20240802T180000
DTEND;TZID=America/Chicago:20240802T220000
DTSTAMP:20260424T104758
CREATED:20240517T183025Z
LAST-MODIFIED:20240517T183025Z
UID:10000054-1722621600-1722636000@legendaustralia.com
SUMMARY:First Friday Flicks @ Hearts (Nashville\, TN)
DESCRIPTION:This summer\, Legend will be partnering with Aussie cafe Hearts for an outdoor movie series. Every first Friday of the month we will be enjoying the sunset while watching some Aussie films and\, of course\, sipping some Aussie wine. Come enjoy the brand new outdoor patio at Hearts! Rotating food vendors\, special beverages\, and a guest DJ to kickstart the evening. Every month until October!
URL:https://legendaustralia.com/event/first-friday-flicks-hearts-nashville-tn-3/
LOCATION:Hearts\, 914 Gallatin Ave\, Nashville\, TN\, 37206\, United States
ATTACH;FMTTYPE=image/png:https://legendaustralia.com/wp-content/uploads/2024/05/Screenshot-2024-05-17-at-9.27.42-AM-e1715956211256.png
END:VEVENT
BEGIN:VEVENT
DTSTART;TZID=America/Chicago:20240705T180000
DTEND;TZID=America/Chicago:20240705T220000
DTSTAMP:20260424T104758
CREATED:20240517T175450Z
LAST-MODIFIED:20240517T175635Z
UID:10000053-1720202400-1720216800@legendaustralia.com
SUMMARY:First Friday Flicks @ Hearts (Nashville\, TN)
DESCRIPTION:This summer\, Legend will be partnering with Aussie cafe Hearts for an outdoor movie series. Every first Friday of the month we will be enjoying the sunset while watching some Aussie films and\, of course\, sipping some Aussie wine. Come enjoy the brand new outdoor patio at Hearts! Rotating food vendors\, special beverages\, and a guest DJ to kickstart the evening. Every month until October!
URL:https://legendaustralia.com/event/first-friday-flicks-hearts-nashville-tn-2/
LOCATION:Hearts\, 914 Gallatin Ave\, Nashville\, TN\, 37206\, United States
ATTACH;FMTTYPE=image/jpeg:https://legendaustralia.com/wp-content/uploads/2024/05/Hearts2-e1715954187679.jpeg
END:VEVENT
BEGIN:VEVENT
DTSTART;TZID=America/Chicago:20240607T180000
DTEND;TZID=America/Chicago:20240607T220000
DTSTAMP:20260424T104758
CREATED:20240517T174628Z
LAST-MODIFIED:20240517T174628Z
UID:10000052-1717783200-1717797600@legendaustralia.com
SUMMARY:First Friday Flicks @ Hearts (Nashville\, TN)
DESCRIPTION:This summer\, Legend will be partnering with Aussie cafe Hearts for an outdoor movie series. Every first Friday of the month we will be enjoying the sunset while watching some Aussie films and\, of course\, sipping some Aussie wine. Come enjoy the brand new outdoor patio at Hearts! Rotating food vendors\, special beverages\, and a guest DJ to kickstart the evening. Every month until October!
URL:https://legendaustralia.com/event/first-friday-flicks-hearts-nashville-tn/
LOCATION:Hearts\, 914 Gallatin Ave\, Nashville\, TN\, 37206\, United States
ATTACH;FMTTYPE=image/avif:https://legendaustralia.com/wp-content/uploads/2024/05/Hearts-First-Friday-e1715953572867.avif
END:VEVENT
END:VCALENDAR