BEGIN:VCALENDAR
VERSION:2.0
PRODID:-//LEGEND - ECPv6.15.20//NONSGML v1.0//EN
CALSCALE:GREGORIAN
METHOD:PUBLISH
X-WR-CALNAME:LEGEND
X-ORIGINAL-URL:https://legendaustralia.com
X-WR-CALDESC:Events for LEGEND
REFRESH-INTERVAL;VALUE=DURATION:PT1H
X-Robots-Tag:noindex
X-PUBLISHED-TTL:PT1H
BEGIN:VTIMEZONE
TZID:America/New_York
BEGIN:DAYLIGHT
TZOFFSETFROM:-0500
TZOFFSETTO:-0400
TZNAME:EDT
DTSTART:20240310T070000
END:DAYLIGHT
BEGIN:STANDARD
TZOFFSETFROM:-0400
TZOFFSETTO:-0500
TZNAME:EST
DTSTART:20241103T060000
END:STANDARD
BEGIN:DAYLIGHT
TZOFFSETFROM:-0500
TZOFFSETTO:-0400
TZNAME:EDT
DTSTART:20250309T070000
END:DAYLIGHT
BEGIN:STANDARD
TZOFFSETFROM:-0400
TZOFFSETTO:-0500
TZNAME:EST
DTSTART:20251102T060000
END:STANDARD
BEGIN:DAYLIGHT
TZOFFSETFROM:-0500
TZOFFSETTO:-0400
TZNAME:EDT
DTSTART:20260308T070000
END:DAYLIGHT
BEGIN:STANDARD
TZOFFSETFROM:-0400
TZOFFSETTO:-0500
TZNAME:EST
DTSTART:20261101T060000
END:STANDARD
END:VTIMEZONE
BEGIN:VEVENT
DTSTART;TZID=America/New_York:20250619T170000
DTEND;TZID=America/New_York:20250619T220000
DTSTAMP:20260424T104522
CREATED:20250618T001107Z
LAST-MODIFIED:20250618T001244Z
UID:10000107-1750352400-1750370400@legendaustralia.com
SUMMARY:Aussie Wine Takeover with Jon @ Judy's (Asbury Park\, NJ)
DESCRIPTION:Jon is heading back to his roots – New Jersey! Big thanks to Judy and Harry’s for hosting us and three of our favorite Aussie selections. So hang out for a full BTG Takeover this Thursday\, June 19th! We’ll have glass specials\, wine flights\, and signed copies of our book How to Drink Australian available for purchase!
URL:https://legendaustralia.com/event/aussie-wine-takeover-with-jon-judys-asbury-park-nj/
LOCATION:Judy and Harry’s\, 408A 7th Avenue\, Asbury Park\, NJ\, 07712\, United States
ATTACH;FMTTYPE=image/png:https://legendaustralia.com/wp-content/uploads/2025/06/Screenshot-2025-06-17-at-3.12.15 PM-e1750191158305.png
END:VEVENT
END:VCALENDAR