BEGIN:VCALENDAR
VERSION:2.0
PRODID:-//LEGEND - ECPv6.15.20//NONSGML v1.0//EN
CALSCALE:GREGORIAN
METHOD:PUBLISH
X-ORIGINAL-URL:https://legendaustralia.com
X-WR-CALDESC:Events for LEGEND
REFRESH-INTERVAL;VALUE=DURATION:PT1H
X-Robots-Tag:noindex
X-PUBLISHED-TTL:PT1H
BEGIN:VTIMEZONE
TZID:America/New_York
BEGIN:DAYLIGHT
TZOFFSETFROM:-0500
TZOFFSETTO:-0400
TZNAME:EDT
DTSTART:20230312T070000
END:DAYLIGHT
BEGIN:STANDARD
TZOFFSETFROM:-0400
TZOFFSETTO:-0500
TZNAME:EST
DTSTART:20231105T060000
END:STANDARD
BEGIN:DAYLIGHT
TZOFFSETFROM:-0500
TZOFFSETTO:-0400
TZNAME:EDT
DTSTART:20240310T070000
END:DAYLIGHT
BEGIN:STANDARD
TZOFFSETFROM:-0400
TZOFFSETTO:-0500
TZNAME:EST
DTSTART:20241103T060000
END:STANDARD
BEGIN:DAYLIGHT
TZOFFSETFROM:-0500
TZOFFSETTO:-0400
TZNAME:EDT
DTSTART:20250309T070000
END:DAYLIGHT
BEGIN:STANDARD
TZOFFSETFROM:-0400
TZOFFSETTO:-0500
TZNAME:EST
DTSTART:20251102T060000
END:STANDARD
END:VTIMEZONE
BEGIN:VEVENT
DTSTART;TZID=America/New_York:20240618T173000
DTEND;TZID=America/New_York:20240618T190000
DTSTAMP:20260424T105110
CREATED:20240601T001818Z
LAST-MODIFIED:20240601T001818Z
UID:10000060-1718731800-1718737200@legendaustralia.com
SUMMARY:Western Australian Wine Tasting with Garth Cliff @ Mariposa (Charlotte\, NC)
DESCRIPTION:Join us at Charlotte’s Mariposa for an Australian wine and food tasting event on their patio on Tuesday\, June 18th! We will be exploring five wines from Vino Volta accompanied with eclectic\, Australian small bites paired with each wine. Located in the Swan District of Western Australia\, Vino Volta highlights two star varietals\, Chenin Blanc and Grenache\, with the focus on making fun\, affordable\, and expressive wines. \nMariposa will start by serving its signature cocktail at 5:30pm\, followed by the wine and food tasting running from 6-7 pm. Winemaker and owner\, Garth Cliff\, will lead the wine tasting to detail Vino Volta’s process and ethos. Guests are welcome to stay on the patio afterwards for dinner and drinks from Mariposa\, as well as exclusive wine specials.
URL:https://legendaustralia.com/event/western-australian-wine-tasting-with-garth-cliff-mariposa-charlotte-nc/
LOCATION:Mariposa\, 500 South Tryon Street\, Charlotte\, NC\, 28202\, United States
ATTACH;FMTTYPE=image/jpeg:https://legendaustralia.com/wp-content/uploads/2024/05/mariposa-e1717186637129.jpeg
END:VEVENT
END:VCALENDAR