BEGIN:VCALENDAR
VERSION:2.0
PRODID:-//LEGEND - ECPv6.15.20//NONSGML v1.0//EN
CALSCALE:GREGORIAN
METHOD:PUBLISH
X-ORIGINAL-URL:https://legendaustralia.com
X-WR-CALDESC:Events for LEGEND
REFRESH-INTERVAL;VALUE=DURATION:PT1H
X-Robots-Tag:noindex
X-PUBLISHED-TTL:PT1H
BEGIN:VTIMEZONE
TZID:America/Denver
BEGIN:DAYLIGHT
TZOFFSETFROM:-0700
TZOFFSETTO:-0600
TZNAME:MDT
DTSTART:20240310T090000
END:DAYLIGHT
BEGIN:STANDARD
TZOFFSETFROM:-0600
TZOFFSETTO:-0700
TZNAME:MST
DTSTART:20241103T080000
END:STANDARD
BEGIN:DAYLIGHT
TZOFFSETFROM:-0700
TZOFFSETTO:-0600
TZNAME:MDT
DTSTART:20250309T090000
END:DAYLIGHT
BEGIN:STANDARD
TZOFFSETFROM:-0600
TZOFFSETTO:-0700
TZNAME:MST
DTSTART:20251102T080000
END:STANDARD
BEGIN:DAYLIGHT
TZOFFSETFROM:-0700
TZOFFSETTO:-0600
TZNAME:MDT
DTSTART:20260308T090000
END:DAYLIGHT
BEGIN:STANDARD
TZOFFSETFROM:-0600
TZOFFSETTO:-0700
TZNAME:MST
DTSTART:20261101T080000
END:STANDARD
END:VTIMEZONE
BEGIN:VEVENT
DTSTART;TZID=America/Denver:20251120T170000
DTEND;TZID=America/Denver:20251120T210000
DTSTAMP:20260424T104438
CREATED:20251103T162754Z
LAST-MODIFIED:20251103T162754Z
UID:10000123-1763658000-1763672400@legendaustralia.com
SUMMARY:Bunch of Legends @ Matilda (Park City\, UT)
DESCRIPTION:Come join us for a ripper night with Legend’s Jonathan Ross and the fine folks at Matilda!  We’ll be pouring some of the best Aussie wines around\, serving up a cracking menu to match\, and having a proper good time while we’re at it. \nTickets are $225 and include all your wine\, food\, and fun for the evening. Grab your partner\, rally your mates\, and get ready for a bloody great night out!
URL:https://legendaustralia.com/event/bunch-of-legends-matilda-park-city-ut/
LOCATION:Matilda\, 1600 Snow Creek Dr\, Park City\, UT\, 84060\, United States
ATTACH;FMTTYPE=image/png:https://legendaustralia.com/wp-content/uploads/2025/11/Matilda.png
END:VEVENT
END:VCALENDAR