BEGIN:VCALENDAR
VERSION:2.0
PRODID:-//LEGEND - ECPv6.15.20//NONSGML v1.0//EN
CALSCALE:GREGORIAN
METHOD:PUBLISH
X-ORIGINAL-URL:https://legendaustralia.com
X-WR-CALDESC:Events for LEGEND
REFRESH-INTERVAL;VALUE=DURATION:PT1H
X-Robots-Tag:noindex
X-PUBLISHED-TTL:PT1H
BEGIN:VTIMEZONE
TZID:America/Chicago
BEGIN:DAYLIGHT
TZOFFSETFROM:-0600
TZOFFSETTO:-0500
TZNAME:CDT
DTSTART:20230312T080000
END:DAYLIGHT
BEGIN:STANDARD
TZOFFSETFROM:-0500
TZOFFSETTO:-0600
TZNAME:CST
DTSTART:20231105T070000
END:STANDARD
BEGIN:DAYLIGHT
TZOFFSETFROM:-0600
TZOFFSETTO:-0500
TZNAME:CDT
DTSTART:20240310T080000
END:DAYLIGHT
BEGIN:STANDARD
TZOFFSETFROM:-0500
TZOFFSETTO:-0600
TZNAME:CST
DTSTART:20241103T070000
END:STANDARD
BEGIN:DAYLIGHT
TZOFFSETFROM:-0600
TZOFFSETTO:-0500
TZNAME:CDT
DTSTART:20250309T080000
END:DAYLIGHT
BEGIN:STANDARD
TZOFFSETFROM:-0500
TZOFFSETTO:-0600
TZNAME:CST
DTSTART:20251102T070000
END:STANDARD
BEGIN:DAYLIGHT
TZOFFSETFROM:-0600
TZOFFSETTO:-0500
TZNAME:CDT
DTSTART:20260308T080000
END:DAYLIGHT
BEGIN:STANDARD
TZOFFSETFROM:-0500
TZOFFSETTO:-0600
TZNAME:CST
DTSTART:20261101T070000
END:STANDARD
BEGIN:DAYLIGHT
TZOFFSETFROM:-0600
TZOFFSETTO:-0500
TZNAME:CDT
DTSTART:20270314T080000
END:DAYLIGHT
BEGIN:STANDARD
TZOFFSETFROM:-0500
TZOFFSETTO:-0600
TZNAME:CST
DTSTART:20271107T070000
END:STANDARD
END:VTIMEZONE
BEGIN:VEVENT
DTSTART;TZID=America/Chicago:20260115T180000
DTEND;TZID=America/Chicago:20260115T193000
DTSTAMP:20260424T105028
CREATED:20260106T230013Z
LAST-MODIFIED:20260106T230013Z
UID:10000125-1768500000-1768505400@legendaustralia.com
SUMMARY:Australian Chardonnay & Pinot Noir Class @ Miel (Nashville\, TN)
DESCRIPTION:Think you know Chardonnay and Pinot Noir? \nThe classic grapes of Burgundy ventured down under and are telling a wholly new story\, expressing the terroir of Australia. Join us as we explore the many faces of Pinot Noir and Chardonnay from the microclimates across Australia.
URL:https://legendaustralia.com/event/australian-chardonnay-pinot-noir-class-miel-nashville-tn/
LOCATION:Miel\, 343 53rd Avenue North\, Nashville\, TN\, 37209\, United States
ATTACH;FMTTYPE=image/jpeg:https://legendaustralia.com/wp-content/uploads/2025/06/Miel.jpeg
END:VEVENT
BEGIN:VEVENT
DTSTART;TZID=America/Chicago:20250723T180000
DTEND;TZID=America/Chicago:20250723T193000
DTSTAMP:20260424T105028
CREATED:20250614T181511Z
LAST-MODIFIED:20250614T181511Z
UID:10000105-1753293600-1753299000@legendaustralia.com
SUMMARY:Aussie Sommer Camp @ Miel (Nashville\, TN)
DESCRIPTION:Jane will be in the house and Miel’s Sommer Camp (get it!?) — a chance to take in some wine education and have a bit of fun. Seema Prasad\, owner of Miel and Harvest Wine Shop\, went to Australia with Legend in February\, and we’re here to bring you all the combined learnings. The theme is Cool + Warm Climate Australia\, and how both climates can produce wines that are balanced\, vibrant\, and fresh.
URL:https://legendaustralia.com/event/aussie-sommer-camp-miel-nashville-tn/
LOCATION:Miel\, 343 53rd Avenue North\, Nashville\, TN\, 37209\, United States
ATTACH;FMTTYPE=image/jpeg:https://legendaustralia.com/wp-content/uploads/2025/06/Miel.jpeg
END:VEVENT
BEGIN:VEVENT
DTSTART;TZID=America/Chicago:20250415T170000
DTEND;TZID=America/Chicago:20250415T200000
DTSTAMP:20260424T105028
CREATED:20250412T013436Z
LAST-MODIFIED:20250412T015930Z
UID:10000090-1744736400-1744747200@legendaustralia.com
SUMMARY:Wine Flair @ Miel (Nashville\, TN)
DESCRIPTION:Nashville\, look out! The Vinguard and Co-Fermented are bringing Wine Flair\, a unique celebration of LGBTQIA+ natural winemakers\, to Nashville on April 15 in collaboration with our good friends at @mielrestaurant. \nWith LGBTQIA+ rights and protections under attack\, representation matters more than ever. Luke Wylde from Lares/Statera and Oniyx Acosta of Commonwealth Crush will pour a selection of their wines\, and we’ll have an array of wines made by queer winemakers from California on pour. \n$40/$30 food and beverage industry \nApril 15\, 5-8pm \nThe Barn @ Miel \nSince 2022\, we’ve been having Wine Flair tastings to promote queer natural winemakers and support communities in SF\, NY\, LA\, Austin\, and Portland\, and we’re so excited to bring it to Nashville! \nNet proceeds will be used to support the work of @thevinguard and @co_fermented\, as well as a portion donated to local LGBTQ+ organizations in Nashville.
URL:https://legendaustralia.com/event/wine-flair-nashville/
LOCATION:Miel\, 343 53rd Avenue North\, Nashville\, TN\, 37209\, United States
ATTACH;FMTTYPE=image/png:https://legendaustralia.com/wp-content/uploads/2025/04/WINE-FLAIR-NASHVILLE.png
END:VEVENT
BEGIN:VEVENT
DTSTART;TZID=America/Chicago:20240924T163000
DTEND;TZID=America/Chicago:20240924T190000
DTSTAMP:20260424T105028
CREATED:20240901T185554Z
LAST-MODIFIED:20240901T185554Z
UID:10000079-1727195400-1727204400@legendaustralia.com
SUMMARY:Happy Hour with Winemaker Michael Downer @ Miel (Nashville\, TN)
DESCRIPTION:Join us and our friends at Miel as we hang out on the patio and chat with Michael Downer about his family’s Adelaide Hills winery. We’ll taste through 4 wines paired with Miel’s award-winning snacks. Hope to see you there! \n 
URL:https://legendaustralia.com/event/happy-hour-with-winemaker-michael-downer-miel-nashville-tn/
LOCATION:Miel\, 343 53rd Avenue North\, Nashville\, TN\, 37209\, United States
ATTACH;FMTTYPE=image/jpeg:https://legendaustralia.com/wp-content/uploads/2020/10/Michael-e1725202544288.jpeg
END:VEVENT
END:VCALENDAR