BEGIN:VCALENDAR
VERSION:2.0
PRODID:-//LEGEND - ECPv6.15.20//NONSGML v1.0//EN
CALSCALE:GREGORIAN
METHOD:PUBLISH
X-WR-CALNAME:LEGEND
X-ORIGINAL-URL:https://legendaustralia.com
X-WR-CALDESC:Events for LEGEND
REFRESH-INTERVAL;VALUE=DURATION:PT1H
X-Robots-Tag:noindex
X-PUBLISHED-TTL:PT1H
BEGIN:VTIMEZONE
TZID:UTC
BEGIN:STANDARD
TZOFFSETFROM:+0000
TZOFFSETTO:+0000
TZNAME:UTC
DTSTART:20220101T000000
END:STANDARD
END:VTIMEZONE
BEGIN:VEVENT
DTSTART;TZID=UTC:20231028T193000
DTEND;TZID=UTC:20231028T220000
DTSTAMP:20260424T104759
CREATED:20231025T000734Z
LAST-MODIFIED:20231025T000734Z
UID:10000027-1698521400-1698530400@legendaustralia.com
SUMMARY:BTG Takeover @ Nobody's (Syracuse\, NY)
DESCRIPTION:For the afterparty\, we’ll be heading to new Syracuse wine bar Nobody’s\, where Australian wine will take over the list! No reservations necessary\, just swing by.
URL:https://legendaustralia.com/event/btg-takeover-nobodys-syracuse-ny/
LOCATION:Nobody’s\, 222 Walton St\, Syracuse\, NY\, 13202\, United States
ATTACH;FMTTYPE=image/jpeg:https://legendaustralia.com/wp-content/uploads/2023/10/Nobodys-e1698178037228.jpeg
END:VEVENT
END:VCALENDAR