BEGIN:VCALENDAR
VERSION:2.0
PRODID:-//LEGEND - ECPv6.15.20//NONSGML v1.0//EN
CALSCALE:GREGORIAN
METHOD:PUBLISH
X-WR-CALNAME:LEGEND
X-ORIGINAL-URL:https://legendaustralia.com
X-WR-CALDESC:Events for LEGEND
REFRESH-INTERVAL;VALUE=DURATION:PT1H
X-Robots-Tag:noindex
X-PUBLISHED-TTL:PT1H
BEGIN:VTIMEZONE
TZID:America/New_York
BEGIN:DAYLIGHT
TZOFFSETFROM:-0500
TZOFFSETTO:-0400
TZNAME:EDT
DTSTART:20240310T070000
END:DAYLIGHT
BEGIN:STANDARD
TZOFFSETFROM:-0400
TZOFFSETTO:-0500
TZNAME:EST
DTSTART:20241103T060000
END:STANDARD
BEGIN:DAYLIGHT
TZOFFSETFROM:-0500
TZOFFSETTO:-0400
TZNAME:EDT
DTSTART:20250309T070000
END:DAYLIGHT
BEGIN:STANDARD
TZOFFSETFROM:-0400
TZOFFSETTO:-0500
TZNAME:EST
DTSTART:20251102T060000
END:STANDARD
BEGIN:DAYLIGHT
TZOFFSETFROM:-0500
TZOFFSETTO:-0400
TZNAME:EDT
DTSTART:20260308T070000
END:DAYLIGHT
BEGIN:STANDARD
TZOFFSETFROM:-0400
TZOFFSETTO:-0500
TZNAME:EST
DTSTART:20261101T060000
END:STANDARD
END:VTIMEZONE
BEGIN:VEVENT
DTSTART;TZID=America/New_York:20251023T180000
DTEND;TZID=America/New_York:20251023T210000
DTSTAMP:20260424T104439
CREATED:20251008T013527Z
LAST-MODIFIED:20251008T013527Z
UID:10000120-1761242400-1761253200@legendaustralia.com
SUMMARY:Fall Harvest Dinner ft. Legend @ Philo Ridge Farm
DESCRIPTION:Join us for an evening that celebrates the interconnected world of agriculture—from pasture to orchard to vineyard. \nThis family-style dinner tells the story of how soil and season shape what arrives on our tables. Each course highlights the careful stewardship behind pork\, apples\, and wine\, showcasing the agricultural practices that connect land to table. \nArrive at 6:00 p.m. for a welcome cider and introductions from our featured producers. Three paired courses follow\, each designed to showcase the relationship among farm\, orchard\, and vineyard. \nBegin with Crispy Pig Ears\, followed by Pork Rillette Toast with apple jelly and fennel mustard\, Shaved Apple Salad with ham and cheddar\, and Pancetta & Bread Dumplings. The main course features Roast Pork & Apples with apple horseradish sauce\, Rutabaga & Apple Mash\, and Ham Hock & Braised Greens. Conclude with our Apple Tart\, Bacon Caramel\, and an Apple Cider Chantilly. All paired with wines from Legend.
URL:https://legendaustralia.com/event/fall-harvest-dinner-ft-legend-philo-ridge-farm/
LOCATION:Philo Ridge Farm\, 2766 Mt Philo Rd\, Charlotte\, VT\, 05445\, United States
ATTACH;FMTTYPE=image/png:https://legendaustralia.com/wp-content/uploads/2025/10/Screenshot-2025-10-07-at-8.34.35-PM.png
END:VEVENT
END:VCALENDAR