BEGIN:VCALENDAR
VERSION:2.0
PRODID:-//LEGEND - ECPv6.15.20//NONSGML v1.0//EN
CALSCALE:GREGORIAN
METHOD:PUBLISH
X-WR-CALNAME:LEGEND
X-ORIGINAL-URL:https://legendaustralia.com
X-WR-CALDESC:Events for LEGEND
REFRESH-INTERVAL;VALUE=DURATION:PT1H
X-Robots-Tag:noindex
X-PUBLISHED-TTL:PT1H
BEGIN:VTIMEZONE
TZID:America/Chicago
BEGIN:DAYLIGHT
TZOFFSETFROM:-0600
TZOFFSETTO:-0500
TZNAME:CDT
DTSTART:20230312T080000
END:DAYLIGHT
BEGIN:STANDARD
TZOFFSETFROM:-0500
TZOFFSETTO:-0600
TZNAME:CST
DTSTART:20231105T070000
END:STANDARD
BEGIN:DAYLIGHT
TZOFFSETFROM:-0600
TZOFFSETTO:-0500
TZNAME:CDT
DTSTART:20240310T080000
END:DAYLIGHT
BEGIN:STANDARD
TZOFFSETFROM:-0500
TZOFFSETTO:-0600
TZNAME:CST
DTSTART:20241103T070000
END:STANDARD
BEGIN:DAYLIGHT
TZOFFSETFROM:-0600
TZOFFSETTO:-0500
TZNAME:CDT
DTSTART:20250309T080000
END:DAYLIGHT
BEGIN:STANDARD
TZOFFSETFROM:-0500
TZOFFSETTO:-0600
TZNAME:CST
DTSTART:20251102T070000
END:STANDARD
END:VTIMEZONE
BEGIN:VEVENT
DTSTART;TZID=America/Chicago:20240920T183000
DTEND;TZID=America/Chicago:20240920T210000
DTSTAMP:20260424T104933
CREATED:20240901T000746Z
LAST-MODIFIED:20240901T000746Z
UID:10000076-1726857000-1726866000@legendaustralia.com
SUMMARY:Winemaker Dinner with Michael Downer @ Southall (Franklin\, TN)
DESCRIPTION:Join us in beautiful Franklin\, TN at the gorgeous new Southall Farm & Inn for a special wine dinner with Murdoch Hill’s Michael Downer. \nMurdoch Hill in Adelaide Hills\, Australia\, is the very recent recipient of the Prime Minister of Australia National Wine Competition Trophy for best wine in Australia and has an exclusive portfolio of wines that you are invited to discover first in America.  Do not miss this exciting wine tasting dinner event! \nMenu \nArrival/canapé \nMurdoch Hill Sauvignon Blanc \nHiramassa Roll Mop with fresh dill\, Bibb lettuce and honey-pickled mustard seed \nAppetizer \nMurdoch Hill Tilbury Chardonnay \nMurdoch Hill Rocket Chardonnay \nVol au Vent Chicken a la King and farm vegetables on a fresh pea puree with sweet corn & chives. \nMid-course \nMurdoch Hill Phaeton Pinot Noir \nMurdoch Hill Apollo Pinot Noir \nPanko-crusted Eggplant layered with soft mozzarella & smoky sweet Carmen peppers on Napolitana sauce topped with crisp Prosciutto and fresh basil. \nEntrée \nMurdoch Hill Landau Syrah \nMurdoch Hill Vis-a-Vis Cabernet Franc \nLamb Souvlaki\, Purple Hull Pea Ragout\, grilled heirloom tomato with garlic & herb sauce. Served with pita \nDessert \nSeppeltsfield 10-year Tawny Port \nSummer Pavlova– fresh whipped cream filled meringue topped with \nassorted fresh berries & fruit.
URL:https://legendaustralia.com/event/winemaker-dinner-with-michael-downer-southall-franklin-tn/
LOCATION:Southall\, 2200 Osage Lp\, Franklin\, TN\, 37064\, United States
ATTACH;FMTTYPE=image/jpeg:https://legendaustralia.com/wp-content/uploads/2024/08/southall-farm-and-inn-e1725134821869.jpg
END:VEVENT
BEGIN:VEVENT
DTSTART;TZID=America/Chicago:20240906T180000
DTEND;TZID=America/Chicago:20240906T200000
DTSTAMP:20260424T104933
CREATED:20240819T195545Z
LAST-MODIFIED:20240819T195545Z
UID:10000071-1725645600-1725652800@legendaustralia.com
SUMMARY:William Downie Winemaker Dinner @ Southall (Franklin\, TN)
DESCRIPTION:Acclaimed new luxury resort Southall and Chef Richard Jones welcome biodynamic farmer and winemaker William Downie to the Jammery for an exciting dinner pairing his wines with the best of the summer harvest. \nCheck out this menu! \nAmaroo Hill’s Duck Sausage with Plum-Hoisin BBQ \nWok-seared Shishito Pepper with Peach & Sake Sauce \nBlack Cherry Tomato & Bourbon Barrel Togorashi \nMoorilla ‘Muse’ Extra Brut Rose\, Tasmania 2018 \nAppetizer: \nMiso Buttered Shrimp with Buckwheat Noodle\, Sesame Crisp \nPatrick Sullivan ‘Bull Swamp Vineyard’ Chardonnay\, Gippsland 2019 \nSalad: \nScallop\, Tobiko Roe & Scarlet Kimchi \nWilliam Downie ‘Bull Swamp Vineyard’ Pinot Noir\, Gippsland 2020 \nWilliam Downie ‘Bull Swamp Vineyard’ Pinot Noir\, Gippsland 2021 \nSoup: \nEmu Neck & Tomato Dashi with Honeynut\, \nSweet Soy-glazed King Trumpet & Shiso \nWilliam Downie ‘Bull Swamp Vineyard’ Pinot Noir\, Gippsland 2020 \nWilliam Downie ‘Bull Swamp Vineyard’ Pinot Noir\, Gippsland 2021 \nEntree: \nFermented Cherokee Bean Paste Grilled Lobster with Carolina Gold Rice Congee \nWilliam Downie ‘Camp Hill Vineyard’ Pinot Noir\, Gippsland 2021 \nDessert: \nSteamed Squash Pudding Mandarin Supreme\, Kumquat Caramel \nWilliam Downie ‘Cathedral’ Pinot Noir\, Victoria 2023
URL:https://legendaustralia.com/event/william-downie-winemaker-dinner-southall-franklin-tn/
LOCATION:Southall\, 2200 Osage Lp\, Franklin\, TN\, 37064\, United States
ATTACH;FMTTYPE=image/jpeg:https://legendaustralia.com/wp-content/uploads/2024/08/TAL-southhall-exterior-landscape-SOUTHALL1122-48abcdc2dca042409de44269e70ba7b7-e1724082926187.jpg
END:VEVENT
END:VCALENDAR