BEGIN:VCALENDAR
VERSION:2.0
PRODID:-//LEGEND - ECPv6.15.20//NONSGML v1.0//EN
CALSCALE:GREGORIAN
METHOD:PUBLISH
X-ORIGINAL-URL:https://legendaustralia.com
X-WR-CALDESC:Events for LEGEND
REFRESH-INTERVAL;VALUE=DURATION:PT1H
X-Robots-Tag:noindex
X-PUBLISHED-TTL:PT1H
BEGIN:VTIMEZONE
TZID:America/Chicago
BEGIN:DAYLIGHT
TZOFFSETFROM:-0600
TZOFFSETTO:-0500
TZNAME:CDT
DTSTART:20220313T080000
END:DAYLIGHT
BEGIN:STANDARD
TZOFFSETFROM:-0500
TZOFFSETTO:-0600
TZNAME:CST
DTSTART:20221106T070000
END:STANDARD
BEGIN:DAYLIGHT
TZOFFSETFROM:-0600
TZOFFSETTO:-0500
TZNAME:CDT
DTSTART:20230312T080000
END:DAYLIGHT
BEGIN:STANDARD
TZOFFSETFROM:-0500
TZOFFSETTO:-0600
TZNAME:CST
DTSTART:20231105T070000
END:STANDARD
BEGIN:DAYLIGHT
TZOFFSETFROM:-0600
TZOFFSETTO:-0500
TZNAME:CDT
DTSTART:20240310T080000
END:DAYLIGHT
BEGIN:STANDARD
TZOFFSETFROM:-0500
TZOFFSETTO:-0600
TZNAME:CST
DTSTART:20241103T070000
END:STANDARD
END:VTIMEZONE
BEGIN:VEVENT
DTSTART;TZID=America/Chicago:20231022T140000
DTEND;TZID=America/Chicago:20231022T153000
DTSTAMP:20260424T110132
CREATED:20231021T012153Z
LAST-MODIFIED:20231021T012153Z
UID:10000025-1697983200-1697988600@legendaustralia.com
SUMMARY:How to Drink Australian @ The Southern Festival of Books (Nashville\, TN)
DESCRIPTION:We are honored to be included in the line-up of the Southern Festival of Books taking place in our hometown of Nashville\, TN! We may be the only book event taking place in the festival’s beer garden…we’ll be pouring a couple Australian wines to go along with our discussion of How to Drink Australian. Free event\, y’all!!
URL:https://legendaustralia.com/event/how-to-drink-australian-the-southern-festival-of-books-nashville-tn/
LOCATION:Southern Festival of Books\, 1000 Rosa L Parks Blvd\, Nashville\, TN\, 37208\, United States
ATTACH;FMTTYPE=image/png:https://legendaustralia.com/wp-content/uploads/2023/10/IMG_5372.png
END:VEVENT
END:VCALENDAR