BEGIN:VCALENDAR
VERSION:2.0
PRODID:-//LEGEND - ECPv6.15.20//NONSGML v1.0//EN
CALSCALE:GREGORIAN
METHOD:PUBLISH
X-ORIGINAL-URL:https://legendaustralia.com
X-WR-CALDESC:Events for LEGEND
REFRESH-INTERVAL;VALUE=DURATION:PT1H
X-Robots-Tag:noindex
X-PUBLISHED-TTL:PT1H
BEGIN:VTIMEZONE
TZID:America/Los_Angeles
BEGIN:DAYLIGHT
TZOFFSETFROM:-0800
TZOFFSETTO:-0700
TZNAME:PDT
DTSTART:20240310T100000
END:DAYLIGHT
BEGIN:STANDARD
TZOFFSETFROM:-0700
TZOFFSETTO:-0800
TZNAME:PST
DTSTART:20241103T090000
END:STANDARD
BEGIN:DAYLIGHT
TZOFFSETFROM:-0800
TZOFFSETTO:-0700
TZNAME:PDT
DTSTART:20250309T100000
END:DAYLIGHT
BEGIN:STANDARD
TZOFFSETFROM:-0700
TZOFFSETTO:-0800
TZNAME:PST
DTSTART:20251102T090000
END:STANDARD
BEGIN:DAYLIGHT
TZOFFSETFROM:-0800
TZOFFSETTO:-0700
TZNAME:PDT
DTSTART:20260308T100000
END:DAYLIGHT
BEGIN:STANDARD
TZOFFSETFROM:-0700
TZOFFSETTO:-0800
TZNAME:PST
DTSTART:20261101T090000
END:STANDARD
END:VTIMEZONE
BEGIN:VEVENT
DTSTART;TZID=America/Los_Angeles:20250529T170000
DTEND;TZID=America/Los_Angeles:20250529T200000
DTSTAMP:20260424T104437
CREATED:20250521T225033Z
LAST-MODIFIED:20250521T225033Z
UID:10000095-1748538000-1748548800@legendaustralia.com
SUMMARY:How to Drink Australian Event w/ Now Serving @ Stir Crazy (Los Angeles\, CA)
DESCRIPTION:There’s never been a better time to explore the wines of Australia — and we’re throwing a patio party on Melrose to prove it. \nJoin us and our friends at Stir Crazy for a lively celebration of HOW TO DRINK AUSTRALIAN: An Essential Modern Wine Book\, with Jane Lopes and Mike Bennie. \nThis is a free event — no RSVP or ticket required. Just swing by for an open-air celebration featuring:\n• Curated pours from standout Aussie producers\n• Signed copies of the book\n• An al fresco meet & greet with Jane & Mike \nSee you there!
URL:https://legendaustralia.com/event/how-to-drink-australian-event-w-now-serving-stir-crazy-los-angeles-ca/
LOCATION:Stir Crazy\, 6903 Melrose Ave\, Los Angeles\, CA\, 90038\, United States
ATTACH;FMTTYPE=image/jpeg:https://legendaustralia.com/wp-content/uploads/2025/05/Stir-Crazy-e1747853385652.jpg
END:VEVENT
END:VCALENDAR