BEGIN:VCALENDAR
VERSION:2.0
PRODID:-//LEGEND - ECPv6.15.20//NONSGML v1.0//EN
CALSCALE:GREGORIAN
METHOD:PUBLISH
X-WR-CALNAME:LEGEND
X-ORIGINAL-URL:https://legendaustralia.com
X-WR-CALDESC:Events for LEGEND
REFRESH-INTERVAL;VALUE=DURATION:PT1H
X-Robots-Tag:noindex
X-PUBLISHED-TTL:PT1H
BEGIN:VTIMEZONE
TZID:America/New_York
BEGIN:DAYLIGHT
TZOFFSETFROM:-0500
TZOFFSETTO:-0400
TZNAME:EDT
DTSTART:20220313T070000
END:DAYLIGHT
BEGIN:STANDARD
TZOFFSETFROM:-0400
TZOFFSETTO:-0500
TZNAME:EST
DTSTART:20221106T060000
END:STANDARD
BEGIN:DAYLIGHT
TZOFFSETFROM:-0500
TZOFFSETTO:-0400
TZNAME:EDT
DTSTART:20230312T070000
END:DAYLIGHT
BEGIN:STANDARD
TZOFFSETFROM:-0400
TZOFFSETTO:-0500
TZNAME:EST
DTSTART:20231105T060000
END:STANDARD
BEGIN:DAYLIGHT
TZOFFSETFROM:-0500
TZOFFSETTO:-0400
TZNAME:EDT
DTSTART:20240310T070000
END:DAYLIGHT
BEGIN:STANDARD
TZOFFSETFROM:-0400
TZOFFSETTO:-0500
TZNAME:EST
DTSTART:20241103T060000
END:STANDARD
END:VTIMEZONE
BEGIN:VEVENT
DTSTART;TZID=America/New_York:20230913T183000
DTEND;TZID=America/New_York:20230913T210000
DTSTAMP:20260424T104751
CREATED:20230828T220901Z
LAST-MODIFIED:20230905T181518Z
UID:10000004-1694629800-1694638800@legendaustralia.com
SUMMARY:Australian Wine Dinner @ Supperland (Charlotte\, NC)
DESCRIPTION:Join Legend’s Jon Ross at the Bar at Supperland to enjoy a unique menu of chef-crafted dishes paired with six boutique Australian wine selections. We’ll start with bubbles and hors d’oeuvres followed by a series of plated courses to showcase each wine. \nCopies of Jane & Jon’s book ‘How to Drink Australian’ will be on hand that evening for purchase and signing to celebrate its North American release. \nSpace is limited for this dinner\, so please secure your seats as soon as possible. We look forward to seeing you soon!
URL:https://legendaustralia.com/event/australian-wine-dinner-supperland-charlotte-nc/
LOCATION:Supperland\, 1212 The Plaza\, Charlotte\, NC\, 28205\, United States
ATTACH;FMTTYPE=image/png:https://legendaustralia.com/wp-content/uploads/2023/08/Screenshot-2023-08-28-at-1.08.29-PM-e1693247974957.png
END:VEVENT
END:VCALENDAR