BEGIN:VCALENDAR
VERSION:2.0
PRODID:-//LEGEND - ECPv6.15.20//NONSGML v1.0//EN
CALSCALE:GREGORIAN
METHOD:PUBLISH
X-ORIGINAL-URL:https://legendaustralia.com
X-WR-CALDESC:Events for LEGEND
REFRESH-INTERVAL;VALUE=DURATION:PT1H
X-Robots-Tag:noindex
X-PUBLISHED-TTL:PT1H
BEGIN:VTIMEZONE
TZID:America/New_York
BEGIN:DAYLIGHT
TZOFFSETFROM:-0500
TZOFFSETTO:-0400
TZNAME:EDT
DTSTART:20220313T070000
END:DAYLIGHT
BEGIN:STANDARD
TZOFFSETFROM:-0400
TZOFFSETTO:-0500
TZNAME:EST
DTSTART:20221106T060000
END:STANDARD
BEGIN:DAYLIGHT
TZOFFSETFROM:-0500
TZOFFSETTO:-0400
TZNAME:EDT
DTSTART:20230312T070000
END:DAYLIGHT
BEGIN:STANDARD
TZOFFSETFROM:-0400
TZOFFSETTO:-0500
TZNAME:EST
DTSTART:20231105T060000
END:STANDARD
BEGIN:DAYLIGHT
TZOFFSETFROM:-0500
TZOFFSETTO:-0400
TZNAME:EDT
DTSTART:20240310T070000
END:DAYLIGHT
BEGIN:STANDARD
TZOFFSETFROM:-0400
TZOFFSETTO:-0500
TZNAME:EST
DTSTART:20241103T060000
END:STANDARD
END:VTIMEZONE
BEGIN:VEVENT
DTSTART;TZID=America/New_York:20231030T183000
DTEND;TZID=America/New_York:20231030T213000
DTSTAMP:20260424T105609
CREATED:20231007T012604Z
LAST-MODIFIED:20231007T012604Z
UID:10000019-1698690600-1698701400@legendaustralia.com
SUMMARY:How to Drink Australian Wine Dinner @ The Noortwyck (NYC)
DESCRIPTION:Jon will be teaming up with his long-time colleague and buddy Cedric Nicaise\, former wine director at Eleven Madison Park and partner at The Noortwyck – a local and seasonally sourced American restaurant in the West Village – for a multi-course wine dinner. \nAll guests will be seated at one table to share the experience. Dinner will be 4 courses\, and feature the below menu: \nAperitif: Chalmers ‘Felicitas’ Sparkling Fiano 2019 \nLeeks with Black Truffles: Stargazer Riesling\, Tasmaina 2021 \nBucatini with Crab and ‘Nduja: P. Sullivan Ada River Chardonnay 2019 // Ngeringa Summit Vyd Chardonnay 2018 \nBBQ Duck Breast with Persimmon: W. Downie Bull Swamp Pinot Noir 2020 // Micro Wines Geelong Shiraz 2019 // Murdoch Hill Landau Syrah 2019 \nOpera Cake with Chocolate and Coffee: Seppeltsfield 2001 Para Tawny
URL:https://legendaustralia.com/event/how-to-drink-australian-wine-dinner-the-noortwyck-nyc/
LOCATION:The Noortwyck\, 289 Bleecker St\, New York\, NY\, 10014\, United States
ATTACH;FMTTYPE=image/jpeg:https://legendaustralia.com/wp-content/uploads/2023/10/Noortwyck-e1696627549249.jpeg
END:VEVENT
END:VCALENDAR