BEGIN:VCALENDAR
VERSION:2.0
PRODID:-//LEGEND - ECPv6.15.20//NONSGML v1.0//EN
CALSCALE:GREGORIAN
METHOD:PUBLISH
X-WR-CALNAME:LEGEND
X-ORIGINAL-URL:https://legendaustralia.com
X-WR-CALDESC:Events for LEGEND
REFRESH-INTERVAL;VALUE=DURATION:PT1H
X-Robots-Tag:noindex
X-PUBLISHED-TTL:PT1H
BEGIN:VTIMEZONE
TZID:America/Los_Angeles
BEGIN:DAYLIGHT
TZOFFSETFROM:-0800
TZOFFSETTO:-0700
TZNAME:PDT
DTSTART:20240310T100000
END:DAYLIGHT
BEGIN:STANDARD
TZOFFSETFROM:-0700
TZOFFSETTO:-0800
TZNAME:PST
DTSTART:20241103T090000
END:STANDARD
BEGIN:DAYLIGHT
TZOFFSETFROM:-0800
TZOFFSETTO:-0700
TZNAME:PDT
DTSTART:20250309T100000
END:DAYLIGHT
BEGIN:STANDARD
TZOFFSETFROM:-0700
TZOFFSETTO:-0800
TZNAME:PST
DTSTART:20251102T090000
END:STANDARD
BEGIN:DAYLIGHT
TZOFFSETFROM:-0800
TZOFFSETTO:-0700
TZNAME:PDT
DTSTART:20260308T100000
END:DAYLIGHT
BEGIN:STANDARD
TZOFFSETFROM:-0700
TZOFFSETTO:-0800
TZNAME:PST
DTSTART:20261101T090000
END:STANDARD
END:VTIMEZONE
BEGIN:VEVENT
DTSTART;TZID=America/Los_Angeles:20250608T130000
DTEND;TZID=America/Los_Angeles:20250608T150000
DTSTAMP:20260424T105204
CREATED:20250522T072054Z
LAST-MODIFIED:20250522T072054Z
UID:10000098-1749387600-1749394800@legendaustralia.com
SUMMARY:South Australia Tasting with Jane @ Verve (San Francisco\, CA)
DESCRIPTION:Verve is wrapping up their South Australia series with something truly special! 🍷🇦🇺 \nJoin us for a special tasting at Verve\, with Jane guiding a lineup of South Australia’s hidden gems\, showcasing the region’s depth\, diversity\, and innovation. \nTasting Lineup:\n• Seppeltsfield Watervale Riesling\, Clare Valley 2023\n• Ngeringa Pet Nat\, Adelaide Hills 2022\n• Murdoch Hill Sauvignon Blanc\, Adelaide Hills 2023\n• Ngeringa Syrah\, Adelaide Hills 2022\n• Micro Wines Cinsault\, Barossa Valley 2022\n• Reed ‘Alexia’ Grenache\, Barossa Valley 2022\n• Seppeltsfield 21-Year-Old ‘Para’ Tawny\, Barossa Valley
URL:https://legendaustralia.com/event/south-australia-tasting-with-jane-verve-san-francisco-ca/
LOCATION:Verve San Francisco\, 2358 Fillmore St\, San Francisco\, CA\, 94115\, United States
ATTACH;FMTTYPE=image/png:https://legendaustralia.com/wp-content/uploads/2025/05/Verve-e1747883796700.png
END:VEVENT
END:VCALENDAR