BEGIN:VCALENDAR
VERSION:2.0
PRODID:-//LEGEND - ECPv6.15.20//NONSGML v1.0//EN
CALSCALE:GREGORIAN
METHOD:PUBLISH
X-ORIGINAL-URL:https://legendaustralia.com
X-WR-CALDESC:Events for LEGEND
REFRESH-INTERVAL;VALUE=DURATION:PT1H
X-Robots-Tag:noindex
X-PUBLISHED-TTL:PT1H
BEGIN:VTIMEZONE
TZID:America/New_York
BEGIN:DAYLIGHT
TZOFFSETFROM:-0500
TZOFFSETTO:-0400
TZNAME:EDT
DTSTART:20230312T070000
END:DAYLIGHT
BEGIN:STANDARD
TZOFFSETFROM:-0400
TZOFFSETTO:-0500
TZNAME:EST
DTSTART:20231105T060000
END:STANDARD
BEGIN:DAYLIGHT
TZOFFSETFROM:-0500
TZOFFSETTO:-0400
TZNAME:EDT
DTSTART:20240310T070000
END:DAYLIGHT
BEGIN:STANDARD
TZOFFSETFROM:-0400
TZOFFSETTO:-0500
TZNAME:EST
DTSTART:20241103T060000
END:STANDARD
BEGIN:DAYLIGHT
TZOFFSETFROM:-0500
TZOFFSETTO:-0400
TZNAME:EDT
DTSTART:20250309T070000
END:DAYLIGHT
BEGIN:STANDARD
TZOFFSETFROM:-0400
TZOFFSETTO:-0500
TZNAME:EST
DTSTART:20251102T060000
END:STANDARD
END:VTIMEZONE
BEGIN:VEVENT
DTSTART;TZID=America/New_York:20240120T120000
DTEND;TZID=America/New_York:20240120T150000
DTSTAMP:20260424T105400
CREATED:20240110T022849Z
LAST-MODIFIED:20240110T022849Z
UID:10000038-1705752000-1705762800@legendaustralia.com
SUMMARY:Drink Like a Victorian Wine Tasting @ Vinya (Miami\, FL)
DESCRIPTION:Join wine friends\, Jane Lopes and Allegra Angelo\, for a special wine tasting extravaganza. In this fun and casual “buffet” style format\, Jane and Allegra will be pouring twenty wines from Victoria’s finest producers. You’ll taste a variety of winemaking styles\, explore underrated sub-regions\, and discover why Victoria rocks! AND the best part of all? $5 of your ticket can be used as a credit towards a bottle purchase or towards Jane’s new book\, “How to Drink Australian.” So\, cancel your Saturday football plans\, and sip “Down Under” on wine island!! \nTHE DETAILS\n-$35 a ticket *Includes tax and gratuity\n–$5 credit towards a bottle purchase or 15% OFF when you mix-and-match 6 bottles or more *Credit non-transferrable\n-Vinya Wine & Market\, Key Biscayne\n-Saturday\, January 20th between 12pm and 3pm\n-Featuring: Innocent Bystander\, Farm to Table\, Moorooduc Estate\, Ben Haines\, Pyren Vineyard\, Chalmers\, and more!!!\n-Complimentary bites\n-Space limited
URL:https://legendaustralia.com/event/drink-like-a-victorian-wine-tasting-vinya-miami-fl/
LOCATION:Vinya Wine Market\, 328 Crandon Blvd #122-123\, Key Biscayne\, 33149\, United States
ATTACH;FMTTYPE=image/jpeg:https://legendaustralia.com/wp-content/uploads/2024/01/IMG_2306-e1704835703528.jpg
END:VEVENT
END:VCALENDAR