BEGIN:VCALENDAR
VERSION:2.0
PRODID:-//LEGEND - ECPv6.15.20//NONSGML v1.0//EN
CALSCALE:GREGORIAN
METHOD:PUBLISH
X-ORIGINAL-URL:https://legendaustralia.com
X-WR-CALDESC:Events for LEGEND
REFRESH-INTERVAL;VALUE=DURATION:PT1H
X-Robots-Tag:noindex
X-PUBLISHED-TTL:PT1H
BEGIN:VTIMEZONE
TZID:America/New_York
BEGIN:DAYLIGHT
TZOFFSETFROM:-0500
TZOFFSETTO:-0400
TZNAME:EDT
DTSTART:20230312T070000
END:DAYLIGHT
BEGIN:STANDARD
TZOFFSETFROM:-0400
TZOFFSETTO:-0500
TZNAME:EST
DTSTART:20231105T060000
END:STANDARD
BEGIN:DAYLIGHT
TZOFFSETFROM:-0500
TZOFFSETTO:-0400
TZNAME:EDT
DTSTART:20240310T070000
END:DAYLIGHT
BEGIN:STANDARD
TZOFFSETFROM:-0400
TZOFFSETTO:-0500
TZNAME:EST
DTSTART:20241103T060000
END:STANDARD
BEGIN:DAYLIGHT
TZOFFSETFROM:-0500
TZOFFSETTO:-0400
TZNAME:EDT
DTSTART:20250309T070000
END:DAYLIGHT
BEGIN:STANDARD
TZOFFSETFROM:-0400
TZOFFSETTO:-0500
TZNAME:EST
DTSTART:20251102T060000
END:STANDARD
END:VTIMEZONE
BEGIN:VEVENT
DTSTART;TZID=America/New_York:20240619T180000
DTEND;TZID=America/New_York:20240619T200000
DTSTAMP:20260424T104524
CREATED:20240601T001000Z
LAST-MODIFIED:20240601T001000Z
UID:10000059-1718820000-1718827200@legendaustralia.com
SUMMARY:Meet the Winemaker Tasting & Dinner with Garth Cliff of Vino Volta @ Wine Sage (Hendersonville\, NC)
DESCRIPTION:We are thrilled to join Hendersonville’s Wine Sage for a tasting dinner with Garth Cliff of Vino Volta. Erin and David of Friends & Neighbors have created an epic small plates dinner to enjoy with these unique and memorable wines. \nWe will be tasting five wines from Vino Volta\, with a focus on their Chenin Blanc and Grenache\, with a menu including shrimp toast\, burrata with grilled spring onion\, grilled steak skewers\, Aussie-style hand-pies\, and lamington!
URL:https://legendaustralia.com/event/meet-the-winemaker-tasting-dinner-with-garth-cliff-of-vino-volta-wine-sage-hendersonville-nc/
LOCATION:Wine Sage\, 416 N. Main St\, Hendersonville\, NC\, 28792\, United States
ATTACH;FMTTYPE=image/webp:https://legendaustralia.com/wp-content/uploads/2024/05/Wine-Sage-e1717186162518.webp
END:VEVENT
END:VCALENDAR